BEGIN:VCALENDAR
VERSION:2.0
PRODID:-//ChamberMaster//Event Calendar 2.0//EN
METHOD:PUBLISH
X-PUBLISHED-TTL:P3D
REFRESH-INTERVAL:P3D
CALSCALE:GREGORIAN
BEGIN:VEVENT
DTSTART:20200429T153000Z
DTEND:20200429T233000Z
X-MICROSOFT-CDO-ALLDAYEVENT:FALSE
SUMMARY:QuickBooks Basic Class 2020
DESCRIPTION:Lance Wilkins of M. Green and Company facilitates a virtual\,  intensive\, interactive day long session\, \n\n\n\nThis class will cover:\n\n	Writing checks\, creating customer invoices & payments\, using accounts receivable & accounts payable\,  bank reconciliation & more\n\n  \n\nAbout Lance Wilkins:\n\n\n	Has all the Certifications and Advanced Certifications QuickBooks offers\, so you can expect accurate answers.                                \n	Experienced in Construction\, Wholesale/Distribution\, Retail\, and most other industry types using QuickBooks\, Enterprise and QuickBooks Point of Sale.\n	A member of the Intuit Trainer/Writer Network\n	An past instructor of QuickBooks courses for California CPA's through CALCPA
X-ALT-DESC;FMTTYPE=text/html:<span style="font-family: arial\;"><span style="color: rgb(0\, 0\, 0)\;">Lance Wilkins of M. Green and Company facilitates a virtual\,&nbsp\; intensive\, interactive day long session\,&nbsp\;<br />\n<br />\nThis class&nbsp\;will cover:</span></span>\n<ul>\n	<li><span style="font-family: arial\;"><span style="color: rgb(0\, 0\, 0)\;">Writing checks\, creating customer invoices &amp\; payments\, using accounts receivable &amp\; accounts payable\,&nbsp\; bank reconciliation &amp\; more</span></span></li>\n</ul>\n<span style="font-family: arial\;"> &nbsp\;</span>\n\n<p style="color: rgb(159\, 165\, 179)\; line-height: normal\; font-family: Tahoma\, Arial\, sans-serif\; font-size: 13.33px\;"><span style="font-family: arial\;"><span style="color: rgb(0\, 0\, 0)\;">About Lance Wilkins:</span></span></p>\n\n<ul style="color: rgb(159\, 165\, 179)\; line-height: normal\; font-family: Tahoma\, Arial\, sans-serif\; font-size: 13.33px\;">\n	<li style="text-align: left\; font-size: 10pt\;"><span style="font-family: arial\;"><span style="color: rgb(0\, 0\, 0)\;">Has all the Certifications and Advanced Certifications QuickBooks offers\, so you can expect accurate answers.&nbsp\;&nbsp\;&nbsp\;&nbsp\;&nbsp\;&nbsp\;&nbsp\;&nbsp\;&nbsp\;&nbsp\;&nbsp\;&nbsp\;&nbsp\;&nbsp\;&nbsp\;&nbsp\;&nbsp\;&nbsp\;&nbsp\;&nbsp\;&nbsp\;&nbsp\;&nbsp\;&nbsp\;&nbsp\;&nbsp\;&nbsp\;&nbsp\;&nbsp\;&nbsp\;&nbsp\;&nbsp\;</span></span></li>\n	<li style="text-align: left\; font-size: 10pt\;"><span style="font-family: arial\;"><span style="color: rgb(0\, 0\, 0)\;">Experienced in Construction\, Wholesale/Distribution\, Retail\, and most other industry types using QuickBooks\, Enterprise and QuickBooks Point of Sale.</span></span></li>\n	<li style="text-align: justify\; font-size: 10pt\;"><span style="font-family: arial\;"><span style="color: rgb(0\, 0\, 0)\;">A member of the Intuit Trainer/Writer Network</span></span></li>\n	<li style="text-align: justify\; font-size: 10pt\;"><span style="font-family: arial\;"><span style="color: rgb(0\, 0\, 0)\;">An past instructor of QuickBooks courses for California CPA&#39\;s through CALCPA</span></span></li>\n</ul>\n\n<p style="color: rgb(159\, 165\, 179)\; line-height: normal\; font-family: Tahoma\, Arial\, sans-serif\; font-size: 13.33px\;"><span style="font-family: arial\;"><span style="color: rgb(0\, 0\, 0)\;">&nbsp\;</span></span></p>\n<span style="font-family: arial\;"> <span style="color: rgb(0\, 0\, 0)\;"> &nbsp\;</span></span>
LOCATION:
UID:e.2090.6464
SEQUENCE:3
DTSTAMP:20260424T185728Z
URL:http://tularechamber.chambermaster.com/events/details/quickbooks-basic-class-2020-6464
END:VEVENT

END:VCALENDAR
